BEGIN:VCALENDAR
VERSION:2.0
PRODID:www.bikeaid.de
X-PUBLISHED-TTL:P1W
BEGIN:VEVENT
UID:69e9917a7b2e5
DTSTART;TZID=Europe/Berlin:20260805T170000
SEQUENCE:0
TRANSP:OPAQUE
SUMMARY:Deutsch / Französisches Kinder- & Jugendtraining (Straße) 
CLASS:PUBLIC
DTSTAMP:20260423T052650Z
END:VEVENT
END:VCALENDAR