BEGIN:VCALENDAR
VERSION:2.0
PRODID:www.bikeaid.de
X-PUBLISHED-TTL:P1W
BEGIN:VEVENT
UID:69e516afd4cb3
DTSTART;TZID=Europe/Berlin:20260905T090000
SEQUENCE:0
TRANSP:OPAQUE
SUMMARY:Rideforhelpday 2026
CLASS:PUBLIC
DTSTAMP:20260419T195351Z
END:VEVENT
END:VCALENDAR