BEGIN:VCALENDAR
VERSION:2.0
PRODID:www.bikeaid.de
X-PUBLISHED-TTL:P1W
BEGIN:VEVENT
UID:69e5176bd8c60
DTSTART;TZID=Europe/Berlin;VALUE=DATE:20260823
SEQUENCE:0
TRANSP:OPAQUE
SUMMARY:Panorama Tour im Biosphärenreservat Bliesgau
CLASS:PUBLIC
DESCRIPTION:RSC St. Ingbert e.V.
X-MICROSOFT-CDO-ALLDAYEVENT:TRUE
DTSTAMP:20260419T195659Z
END:VEVENT
END:VCALENDAR