BEGIN:VCALENDAR
VERSION:2.0
PRODID:www.bikeaid.de
X-PUBLISHED-TTL:P1W
BEGIN:VEVENT
UID:69e5189997d4e
DTSTART;TZID=Europe/Berlin;VALUE=DATE:20260816
SEQUENCE:0
TRANSP:OPAQUE
SUMMARY:Losheimer Gipfelstürmer (CTF) / Gravelbike and more
CLASS:PUBLIC
DESCRIPTION:RSG Hochwald Losheim e.V.
X-MICROSOFT-CDO-ALLDAYEVENT:TRUE
DTSTAMP:20260419T200201Z
END:VEVENT
END:VCALENDAR