BEGIN:VCALENDAR
VERSION:2.0
PRODID:www.bikeaid.de
X-PUBLISHED-TTL:P1W
BEGIN:VEVENT
UID:69e5180268ef1
DTSTART;TZID=Europe/Berlin:20260902T170000
SEQUENCE:0
TRANSP:OPAQUE
SUMMARY:Deutsch / Französisches Kinder- & Jugendtraining (Straße) 
CLASS:PUBLIC
DTSTAMP:20260419T195930Z
END:VEVENT
END:VCALENDAR