BEGIN:VCALENDAR
VERSION:2.0
PRODID:www.bikeaid.de
X-PUBLISHED-TTL:P1W
BEGIN:VEVENT
UID:69e51811f2a3b
DTSTART;TZID=Europe/Berlin;VALUE=DATE:20260517
SEQUENCE:0
TRANSP:OPAQUE
SUMMARY:42. Überherrner Straßenrennen auf dem Wallerfanger Saargau
CLASS:PUBLIC
X-MICROSOFT-CDO-ALLDAYEVENT:TRUE
DTSTAMP:20260419T195945Z
END:VEVENT
END:VCALENDAR